Package: epivizrServer Version: 1.37.0 Command: rm -rf epivizrServer.buildbin-libdir && mkdir epivizrServer.buildbin-libdir && /Users/biocbuild/BBS/utils/build-universal.sh epivizrServer_1.37.0.tar.gz /Library/Frameworks/R.framework/Resources/bin/R epivizrServer.buildbin-libdir StartedAt: 2025-05-04 22:34:55 -0400 (Sun, 04 May 2025) EndedAt: 2025-05-04 22:34:57 -0400 (Sun, 04 May 2025) EllapsedTime: 2.1 seconds RetCode: 0 Status: OK PackageFile: epivizrServer_1.37.0.tgz PackageFileSize: 458.4 KiB