Package: epivizrChart Version: 1.31.0 Command: rm -rf epivizrChart.buildbin-libdir && mkdir epivizrChart.buildbin-libdir && F:\biocbuild\bbs-3.22-bioc\R\bin\R.exe CMD INSTALL --build --library=epivizrChart.buildbin-libdir epivizrChart_1.31.0.tar.gz StartedAt: 2025-08-15 10:14:25 -0400 (Fri, 15 Aug 2025) EndedAt: 2025-08-15 10:16:01 -0400 (Fri, 15 Aug 2025) EllapsedTime: 95.5 seconds RetCode: 0 Status: OK PackageFile: epivizrChart_1.31.0.zip PackageFileSize: 6.211 MiB