Package: epivizrChart Version: 1.29.0 Command: /home/biocbuild/bbs-3.21-bioc/R/bin/R CMD check --install=check:epivizrChart.install-out.txt --library=/home/biocbuild/bbs-3.21-bioc/R/site-library --timings epivizrChart_1.29.0.tar.gz StartedAt: 2025-02-03 22:15:40 -0500 (Mon, 03 Feb 2025) EndedAt: 2025-02-03 22:23:35 -0500 (Mon, 03 Feb 2025) EllapsedTime: 474.9 seconds RetCode: 0 Status: OK CheckDir: epivizrChart.Rcheck Warnings: 0