Package: epivizrChart Version: 1.29.0 Command: /home/biocbuild/R/R/bin/R CMD build --keep-empty-dirs --no-resave-data epivizrChart StartedAt: 2025-01-28 22:45:47 -0000 (Tue, 28 Jan 2025) EndedAt: 2025-01-28 22:48:31 -0000 (Tue, 28 Jan 2025) EllapsedTime: 164.0 seconds RetCode: 0 Status: OK PackageFile: epivizrChart_1.29.0.tar.gz PackageFileSize: 5.417 MiB