Package: epivizr Version: 2.39.0 Command: /home/biocbuild/bbs-3.22-bioc/R/bin/R CMD build --keep-empty-dirs --no-resave-data --md5 epivizr StartedAt: 2025-10-03 17:31:21 -0400 (Fri, 03 Oct 2025) EndedAt: 2025-10-03 17:32:30 -0400 (Fri, 03 Oct 2025) EllapsedTime: 69.0 seconds RetCode: 0 Status: OK PackageFile: epivizr_2.39.0.tar.gz PackageFileSize: 1.182 MiB