Package: epivizr Version: 2.37.0 Command: /Library/Frameworks/R.framework/Resources/bin/R CMD check --install=check:epivizr.install-out.txt --library=/Library/Frameworks/R.framework/Resources/library --no-vignettes --timings epivizr_2.37.0.tar.gz StartedAt: 2025-02-02 20:16:19 -0500 (Sun, 02 Feb 2025) EndedAt: 2025-02-02 20:22:33 -0500 (Sun, 02 Feb 2025) EllapsedTime: 373.6 seconds RetCode: 0 Status: OK CheckDir: epivizr.Rcheck Warnings: 0