Package: epivizr Version: 2.39.0 Command: /Library/Frameworks/R.framework/Resources/bin/R CMD INSTALL epivizr StartedAt: 2025-05-07 15:25:01 -0400 (Wed, 07 May 2025) EndedAt: 2025-05-07 15:25:22 -0400 (Wed, 07 May 2025) EllapsedTime: 20.5 seconds RetCode: 0 Status: OK