Package: epivizr Version: 2.39.0 Command: /Library/Frameworks/R.framework/Resources/bin/R CMD check --install=check:epivizr.install-out.txt --library=/Library/Frameworks/R.framework/Resources/library --no-vignettes --timings epivizr_2.39.0.tar.gz StartedAt: 2025-05-08 19:28:42 -0400 (Thu, 08 May 2025) EndedAt: 2025-05-08 19:31:08 -0400 (Thu, 08 May 2025) EllapsedTime: 145.6 seconds RetCode: 0 Status: OK CheckDir: epivizr.Rcheck Warnings: 0