Package: epivizr Version: 2.39.0 Command: /Library/Frameworks/R.framework/Resources/bin/R CMD build --keep-empty-dirs --no-resave-data epivizr StartedAt: 2025-05-08 16:19:03 -0400 (Thu, 08 May 2025) EndedAt: 2025-05-08 16:19:42 -0400 (Thu, 08 May 2025) EllapsedTime: 39.4 seconds RetCode: 0 Status: OK PackageFile: epivizr_2.39.0.tar.gz PackageFileSize: 1.198 MiB