Package: epistasisGA Version: 1.9.0 Command: E:\biocbuild\bbs-3.21-bioc\R\bin\R.exe CMD INSTALL epistasisGA StartedAt: 2025-02-14 16:28:34 -0500 (Fri, 14 Feb 2025) EndedAt: 2025-02-14 16:29:52 -0500 (Fri, 14 Feb 2025) EllapsedTime: 78.6 seconds RetCode: 0 Status: OK