Package: epistasisGA Version: 1.9.0 Command: chmod a+r epistasisGA -R && E:\biocbuild\bbs-3.21-bioc\R\bin\R.exe CMD build --keep-empty-dirs --no-resave-data epistasisGA StartedAt: 2025-02-05 18:40:01 -0500 (Wed, 05 Feb 2025) EndedAt: 2025-02-05 18:46:37 -0500 (Wed, 05 Feb 2025) EllapsedTime: 395.4 seconds RetCode: 0 Status: OK PackageFile: epistasisGA_1.9.0.tar.gz PackageFileSize: 1.346 MiB