Package: epistasisGA Version: 1.9.0 Command: /home/biocbuild/R/R/bin/R CMD build --keep-empty-dirs --no-resave-data epistasisGA StartedAt: 2025-01-28 22:44:52 -0000 (Tue, 28 Jan 2025) EndedAt: 2025-01-28 22:49:08 -0000 (Tue, 28 Jan 2025) EllapsedTime: 256.1 seconds RetCode: 0 Status: OK PackageFile: epistasisGA_1.9.0.tar.gz PackageFileSize: 1.666 MiB