Package: epistack Version: 1.15.1 Command: chmod a+r epistack -R && F:\biocbuild\bbs-3.22-bioc\R\bin\R.exe CMD build --keep-empty-dirs --no-resave-data epistack StartedAt: 2025-08-14 19:59:25 -0400 (Thu, 14 Aug 2025) EndedAt: 2025-08-14 20:12:43 -0400 (Thu, 14 Aug 2025) EllapsedTime: 798.2 seconds RetCode: 0 Status: OK PackageFile: epistack_1.15.1.tar.gz PackageFileSize: 3.146 MiB