Package: epistack Version: 1.15.1 Command: rm -rf epistack.buildbin-libdir && mkdir epistack.buildbin-libdir && F:\biocbuild\bbs-3.22-bioc\R\bin\R.exe CMD INSTALL --build --library=epistack.buildbin-libdir epistack_1.15.1.tar.gz StartedAt: 2025-08-15 10:14:12 -0400 (Fri, 15 Aug 2025) EndedAt: 2025-08-15 10:14:44 -0400 (Fri, 15 Aug 2025) EllapsedTime: 31.6 seconds RetCode: 0 Status: OK PackageFile: epistack_1.15.1.zip PackageFileSize: 1.374 MiB