Package: epistack Version: 1.15.0 Maintainer: DEVAILLY Guillaume MaintainerEmail: gdevailly at hotmail.com git_url: https://git.bioconductor.org/packages/epistack git_branch: devel git_last_commit: 79a49a3 git_last_commit_date: 2025-04-15 12:40:51 -0400 (Tue, 15 Apr 2025)