Package: epiregulon Version: 1.3.5 Command: rm -rf epiregulon.buildbin-libdir && mkdir epiregulon.buildbin-libdir && /Users/biocbuild/BBS/utils/build-universal.sh epiregulon_1.3.5.tar.gz /Library/Frameworks/R.framework/Resources/bin/R epiregulon.buildbin-libdir StartedAt: 2025-02-04 00:33:12 -0500 (Tue, 04 Feb 2025) EndedAt: 2025-02-04 00:34:05 -0500 (Tue, 04 Feb 2025) EllapsedTime: 53.2 seconds RetCode: 0 Status: OK PackageFile: epiregulon_1.3.5.tgz PackageFileSize: 1.407 MiB