Package: epiregulon.extra Version: 1.5.1 Command: /home/biocbuild/bbs-3.22-bioc/R/bin/R CMD INSTALL epiregulon.extra StartedAt: 2025-10-23 15:59:19 -0400 (Thu, 23 Oct 2025) EndedAt: 2025-10-23 15:59:46 -0400 (Thu, 23 Oct 2025) EllapsedTime: 26.5 seconds RetCode: 0 Status: OK