Package: epiregulon.extra Version: 1.5.1 Command: /home/biocbuild/bbs-3.22-bioc/R/bin/R CMD build --keep-empty-dirs --no-resave-data --md5 epiregulon.extra StartedAt: 2025-10-23 17:35:37 -0400 (Thu, 23 Oct 2025) EndedAt: 2025-10-23 17:41:24 -0400 (Thu, 23 Oct 2025) EllapsedTime: 346.3 seconds RetCode: 0 Status: OK PackageFile: epiregulon.extra_1.5.1.tar.gz PackageFileSize: 3.198 MiB