Package: epimutacions Version: 1.13.0 Command: rm -rf epimutacions.buildbin-libdir && mkdir epimutacions.buildbin-libdir && F:\biocbuild\bbs-3.22-bioc\R\bin\R.exe CMD INSTALL --build --library=epimutacions.buildbin-libdir epimutacions_1.13.0.tar.gz StartedAt: 2025-08-15 10:13:56 -0400 (Fri, 15 Aug 2025) EndedAt: 2025-08-15 10:15:32 -0400 (Fri, 15 Aug 2025) EllapsedTime: 95.6 seconds RetCode: 0 Status: OK PackageFile: epimutacions_1.13.0.zip PackageFileSize: 1.59 MiB