Package: epimutacions Version: 1.13.0 Command: /home/biocbuild/bbs-3.22-bioc/R/bin/R CMD INSTALL epimutacions StartedAt: 2025-10-03 15:59:40 -0400 (Fri, 03 Oct 2025) EndedAt: 2025-10-03 16:00:27 -0400 (Fri, 03 Oct 2025) EllapsedTime: 47.5 seconds RetCode: 0 Status: OK