Package: epimutacions Version: 1.13.0 Command: /home/biocbuild/bbs-3.22-bioc/R/bin/R CMD build --keep-empty-dirs --no-resave-data --md5 epimutacions StartedAt: 2025-10-02 17:31:45 -0400 (Thu, 02 Oct 2025) EndedAt: 2025-10-02 17:34:50 -0400 (Thu, 02 Oct 2025) EllapsedTime: 185.2 seconds RetCode: 0 Status: OK PackageFile: epimutacions_1.13.0.tar.gz PackageFileSize: 1.728 MiB