Package: epigraHMM Version: 1.17.3 Command: /home/biocbuild/bbs-3.22-bioc/R/bin/R CMD INSTALL epigraHMM StartedAt: 2025-10-06 15:31:52 -0400 (Mon, 06 Oct 2025) EndedAt: 2025-10-06 15:33:55 -0400 (Mon, 06 Oct 2025) EllapsedTime: 123.4 seconds RetCode: 0 Status: OK