Package: epigraHMM Version: 1.17.3 Command: /home/biocbuild/bbs-3.22-bioc/R/bin/R CMD build --keep-empty-dirs --no-resave-data --md5 epigraHMM StartedAt: 2025-10-06 17:30:54 -0400 (Mon, 06 Oct 2025) EndedAt: 2025-10-06 17:39:48 -0400 (Mon, 06 Oct 2025) EllapsedTime: 533.6 seconds RetCode: 0 Status: OK PackageFile: epigraHMM_1.17.3.tar.gz PackageFileSize: 726.9 KiB