Package: epigenomix Version: 1.49.0 Command: rm -rf epigenomix.buildbin-libdir && mkdir epigenomix.buildbin-libdir && F:\biocbuild\bbs-3.22-bioc\R\bin\R.exe CMD INSTALL --build --library=epigenomix.buildbin-libdir epigenomix_1.49.0.tar.gz StartedAt: 2025-08-15 10:13:47 -0400 (Fri, 15 Aug 2025) EndedAt: 2025-08-15 10:15:03 -0400 (Fri, 15 Aug 2025) EllapsedTime: 76.4 seconds RetCode: 0 Status: OK PackageFile: epigenomix_1.49.0.zip PackageFileSize: 971.8 KiB