Package: epidecodeR Version: 1.17.0 Command: /Library/Frameworks/R.framework/Resources/bin/R CMD check --install=check:epidecodeR.install-out.txt --library=/Library/Frameworks/R.framework/Resources/library --no-vignettes --timings epidecodeR_1.17.0.tar.gz StartedAt: 2025-04-30 20:28:16 -0400 (Wed, 30 Apr 2025) EndedAt: 2025-04-30 20:32:40 -0400 (Wed, 30 Apr 2025) EllapsedTime: 264.6 seconds RetCode: 0 Status: OK CheckDir: epidecodeR.Rcheck Warnings: 0