Package: epidecodeR Version: 1.18.0 Command: /Library/Frameworks/R.framework/Resources/bin/R CMD check --install=check:epidecodeR.install-out.txt --library=/Library/Frameworks/R.framework/Resources/library --no-vignettes --timings epidecodeR_1.18.0.tar.gz StartedAt: 2025-10-30 02:03:23 -0400 (Thu, 30 Oct 2025) EndedAt: 2025-10-30 02:05:02 -0400 (Thu, 30 Oct 2025) EllapsedTime: 99.2 seconds RetCode: 0 Status: OK CheckDir: epidecodeR.Rcheck Warnings: 0