Package: epidecodeR Version: 1.17.0 Maintainer: Kandarp Joshi MaintainerEmail: kandarpbioinfo at gmail.com git_url: https://git.bioconductor.org/packages/epidecodeR git_branch: devel git_last_commit: 30001ed git_last_commit_date: 2025-04-15 12:25:32 -0400 (Tue, 15 Apr 2025)