Package: epialleleR Version: 1.17.1 Command: rm -rf epialleleR.buildbin-libdir && mkdir epialleleR.buildbin-libdir && F:\biocbuild\bbs-3.22-bioc\R\bin\R.exe CMD INSTALL --build --library=epialleleR.buildbin-libdir epialleleR_1.17.1.tar.gz StartedAt: 2025-08-15 10:13:36 -0400 (Fri, 15 Aug 2025) EndedAt: 2025-08-15 10:15:12 -0400 (Fri, 15 Aug 2025) EllapsedTime: 96.4 seconds RetCode: 0 Status: OK PackageFile: epialleleR_1.17.1.zip PackageFileSize: 7.695 MiB