Package: epialleleR Version: 1.15.1 Command: /Library/Frameworks/R.framework/Resources/bin/R CMD check --install=check:epialleleR.install-out.txt --library=/Library/Frameworks/R.framework/Resources/library --no-vignettes --timings epialleleR_1.15.1.tar.gz StartedAt: 2025-02-03 19:43:19 -0500 (Mon, 03 Feb 2025) EndedAt: 2025-02-03 19:44:13 -0500 (Mon, 03 Feb 2025) EllapsedTime: 53.6 seconds RetCode: 0 Status: OK CheckDir: epialleleR.Rcheck Warnings: 0