Package: epialleleR Version: 1.15.1 Command: rm -rf epialleleR.buildbin-libdir && mkdir epialleleR.buildbin-libdir && /Users/biocbuild/BBS/utils/build-universal.sh epialleleR_1.15.1.tar.gz /Library/Frameworks/R.framework/Resources/bin/R epialleleR.buildbin-libdir StartedAt: 2025-02-03 22:49:17 -0500 (Mon, 03 Feb 2025) EndedAt: 2025-02-03 22:49:40 -0500 (Mon, 03 Feb 2025) EllapsedTime: 23.4 seconds RetCode: 0 Status: OK PackageFile: epialleleR_1.15.1.tgz PackageFileSize: 4.352 MiB