Package: epiNEM Version: 1.33.0 Command: /Library/Frameworks/R.framework/Resources/bin/R CMD INSTALL epiNEM StartedAt: 2025-05-27 15:22:09 -0400 (Tue, 27 May 2025) EndedAt: 2025-05-27 15:22:32 -0400 (Tue, 27 May 2025) EllapsedTime: 23.3 seconds RetCode: 0 Status: OK