Package: ensembldb Version: 2.33.2 Command: /home/biocbuild/R/R/bin/R CMD build --keep-empty-dirs --no-resave-data ensembldb StartedAt: 2025-10-17 00:57:39 -0000 (Fri, 17 Oct 2025) EndedAt: 2025-10-17 01:00:17 -0000 (Fri, 17 Oct 2025) EllapsedTime: 158.1 seconds RetCode: 0 Status: OK PackageFile: ensembldb_2.33.2.tar.gz PackageFileSize: 3.478 MiB