Package: ensembldb Version: 2.31.0 Command: rm -rf ensembldb.buildbin-libdir && mkdir ensembldb.buildbin-libdir && E:\biocbuild\bbs-3.21-bioc\R\bin\R.exe CMD INSTALL --build --library=ensembldb.buildbin-libdir ensembldb_2.31.0.tar.gz StartedAt: 2025-02-01 07:09:35 -0500 (Sat, 01 Feb 2025) EndedAt: 2025-02-01 07:11:36 -0500 (Sat, 01 Feb 2025) EllapsedTime: 121.3 seconds RetCode: 0 Status: OK PackageFile: ensembldb_2.31.0.zip PackageFileSize: 3.439 MiB