Package: ensembldb Version: 2.31.0 Command: /Library/Frameworks/R.framework/Resources/bin/R CMD build --keep-empty-dirs --no-resave-data ensembldb StartedAt: 2025-02-16 16:33:13 -0500 (Sun, 16 Feb 2025) EndedAt: 2025-02-16 16:35:36 -0500 (Sun, 16 Feb 2025) EllapsedTime: 142.9 seconds RetCode: 0 Status: OK PackageFile: ensembldb_2.31.0.tar.gz PackageFileSize: 3.286 MiB