Package: enrichplot Version: 1.29.2 Command: /home/biocbuild/R/R/bin/R CMD INSTALL enrichplot StartedAt: 2025-10-09 21:53:04 -0000 (Thu, 09 Oct 2025) EndedAt: 2025-10-09 21:53:33 -0000 (Thu, 09 Oct 2025) EllapsedTime: 29.3 seconds RetCode: 0 Status: OK