Package: enrichplot Version: 1.29.2 Command: /home/biocbuild/R/R/bin/R CMD build --keep-empty-dirs --no-resave-data enrichplot StartedAt: 2025-10-10 00:23:10 -0000 (Fri, 10 Oct 2025) EndedAt: 2025-10-10 00:23:45 -0000 (Fri, 10 Oct 2025) EllapsedTime: 35.0 seconds RetCode: 0 Status: OK PackageFile: enrichplot_1.29.2.tar.gz PackageFileSize: 98.72 KiB