Package: enrichplot Version: 1.29.3 Command: /home/biocbuild/bbs-3.22-bioc/R/bin/R CMD check --install=check:enrichplot.install-out.txt --library=/home/biocbuild/bbs-3.22-bioc/R/site-library --timings enrichplot_1.29.3.tar.gz StartedAt: 2025-10-22 23:34:48 -0400 (Wed, 22 Oct 2025) EndedAt: 2025-10-22 23:37:41 -0400 (Wed, 22 Oct 2025) EllapsedTime: 173.1 seconds RetCode: 0 Status: OK CheckDir: enrichplot.Rcheck Warnings: 0