Package: enrichplot Version: 1.29.2 Command: /Library/Frameworks/R.framework/Resources/bin/R CMD INSTALL enrichplot StartedAt: 2025-07-20 15:25:09 -0400 (Sun, 20 Jul 2025) EndedAt: 2025-07-20 15:25:18 -0400 (Sun, 20 Jul 2025) EllapsedTime: 8.5 seconds RetCode: 0 Status: OK