Back to Build/check report for BioC 3.23:   simplified   long
ABCD[E]FGHIJKLMNOPQRSTUVWXYZ

This page was generated on 2025-11-03 11:32 -0500 (Mon, 03 Nov 2025).

HostnameOSArch (*)R versionInstalled pkgs
nebbiolo1Linux (Ubuntu 24.04.3 LTS)x86_64R Under development (unstable) (2025-10-20 r88955) -- "Unsuffered Consequences" 4775
Click on any hostname to see more info about the system (e.g. compilers)      (*) as reported by 'uname -p', except on Windows and Mac OS X

All results for package enrichplot


To the developers/maintainers of the enrichplot package:
- Allow up to 24 hours (and sometimes 48 hours) for your latest push to git@git.bioconductor.org:packages/enrichplot.git to reflect on this report. See Troubleshooting Build Report for more information.
- Use the following Renviron settings to reproduce errors and warnings.
- If 'R CMD check' started to fail recently on the Linux builder(s) over a missing dependency, add the missing dependency to 'Suggests:' in your DESCRIPTION file. See Renviron.bioc for more information.

raw results

Package 661/2321HostnameOS / ArchINSTALLBUILDCHECKBUILD BIN
enrichplot 1.31.0  (landing page)
Guangchuang Yu
Snapshot Date: 2025-11-02 13:40 -0500 (Sun, 02 Nov 2025)
git_url: https://git.bioconductor.org/packages/enrichplot
git_branch: devel
git_last_commit: 682bc26
git_last_commit_date: 2025-10-29 10:43:16 -0500 (Wed, 29 Oct 2025)
nebbiolo1Linux (Ubuntu 24.04.3 LTS) / x86_64  OK    OK    OK  UNNEEDED, same version is already published



Results for Bioconductor software packages that depend directly on package enrichplot

QUICK STATSOS / ArchINSTALLBUILDCHECKBUILD BIN
nebbiolo1Linux (Ubuntu 24.04.3 LTS) / x86_64
0011
0110
0109
Package 1/11HostnameOS / ArchINSTALLBUILDCHECKBUILD BIN
CBNplot 1.11.0  (landing page)
Noriaki Sato
git_last_commit: a7bbf54
git_last_commit_date: 2025-10-29 11:22:40 -0500
nebbiolo1Linux (Ubuntu 24.04.3 LTS) / x86_64  OK    OK    OK  UNNEEDED, same version is already published
Package 2/11HostnameOS / ArchINSTALLBUILDCHECKBUILD BIN
ChIPseeker 1.47.0  (landing page)
Guangchuang Yu
git_last_commit: e1ac8e1
git_last_commit_date: 2025-10-29 10:19:25 -0500
nebbiolo1Linux (Ubuntu 24.04.3 LTS) / x86_64  OK    OK    ERROR  
Package 3/11HostnameOS / ArchINSTALLBUILDCHECKBUILD BIN
clusterProfiler 4.19.1  (landing page)
Guangchuang Yu
git_last_commit: c6e07d0
git_last_commit_date: 2025-11-01 10:45:20 -0500
nebbiolo1Linux (Ubuntu 24.04.3 LTS) / x86_64  OK    OK    OK  YES
Package 4/11HostnameOS / ArchINSTALLBUILDCHECKBUILD BIN
debrowser 1.39.0  (landing page)
Alper Kucukural
git_last_commit: 17795bc
git_last_commit_date: 2025-10-29 10:30:54 -0500
nebbiolo1Linux (Ubuntu 24.04.3 LTS) / x86_64  OK    OK    OK  NO, package depends on 'Harman' which is not available
Package 5/11HostnameOS / ArchINSTALLBUILDCHECKBUILD BIN
enrichViewNet 1.9.0  (landing page)
Astrid DeschĂȘnes
git_last_commit: a935360
git_last_commit_date: 2025-10-29 11:26:13 -0500
nebbiolo1Linux (Ubuntu 24.04.3 LTS) / x86_64  OK    OK    OK  UNNEEDED, same version is already published
Package 6/11HostnameOS / ArchINSTALLBUILDCHECKBUILD BIN
goatea 1.1.0  (landing page)
Maurits Unkel
git_last_commit: 15d475f
git_last_commit_date: 2025-10-29 11:37:58 -0500
nebbiolo1Linux (Ubuntu 24.04.3 LTS) / x86_64  OK    ERROR  skipped
Package 7/11HostnameOS / ArchINSTALLBUILDCHECKBUILD BIN
meshes 1.37.0  (landing page)
Guangchuang Yu
git_last_commit: b03ea7f
git_last_commit_date: 2025-10-29 10:35:16 -0500
nebbiolo1Linux (Ubuntu 24.04.3 LTS) / x86_64  OK    OK    OK  UNNEEDED, same version is already published
Package 8/11HostnameOS / ArchINSTALLBUILDCHECKBUILD BIN
MicrobiomeProfiler 1.17.0  (landing page)
Guangchuang Yu
git_last_commit: ef6d1ed
git_last_commit_date: 2025-10-29 11:12:46 -0500
nebbiolo1Linux (Ubuntu 24.04.3 LTS) / x86_64  OK    OK    OK  UNNEEDED, same version is already published
Package 9/11HostnameOS / ArchINSTALLBUILDCHECKBUILD BIN
ReactomePA 1.55.0  (landing page)
Guangchuang Yu
git_last_commit: 37ccc0d
git_last_commit_date: 2025-10-29 10:10:37 -0500
nebbiolo1Linux (Ubuntu 24.04.3 LTS) / x86_64  OK    OK    OK  UNNEEDED, same version is already published
Package 10/11HostnameOS / ArchINSTALLBUILDCHECKBUILD BIN
RFLOMICS 1.3.0  (landing page)
Nadia Bessoltane
git_last_commit: a7a98e3
git_last_commit_date: 2025-10-29 11:35:35 -0500
nebbiolo1Linux (Ubuntu 24.04.3 LTS) / x86_64  OK    OK    OK  UNNEEDED, same version is already published
Package 11/11HostnameOS / ArchINSTALLBUILDCHECKBUILD BIN
TDbasedUFEadv 1.11.0  (landing page)
Y-h. Taguchi
git_last_commit: 63e0976
git_last_commit_date: 2025-10-29 11:22:02 -0500
nebbiolo1Linux (Ubuntu 24.04.3 LTS) / x86_64  OK    OK    OK  YES