Package: enrichViewNet Version: 1.5.0 Command: /Library/Frameworks/R.framework/Resources/bin/R CMD INSTALL enrichViewNet StartedAt: 2025-02-03 15:40:30 -0500 (Mon, 03 Feb 2025) EndedAt: 2025-02-03 15:41:00 -0500 (Mon, 03 Feb 2025) EllapsedTime: 30.3 seconds RetCode: 0 Status: OK