Package: enrichViewNet Version: 1.7.0 Command: /Library/Frameworks/R.framework/Resources/bin/R CMD check --install=check:enrichViewNet.install-out.txt --library=/Library/Frameworks/R.framework/Resources/library --no-vignettes --timings enrichViewNet_1.7.0.tar.gz StartedAt: 2025-05-04 20:28:46 -0400 (Sun, 04 May 2025) EndedAt: 2025-05-04 20:32:27 -0400 (Sun, 04 May 2025) EllapsedTime: 221.0 seconds RetCode: 0 Status: OK CheckDir: enrichViewNet.Rcheck Warnings: 0