Package: enrichViewNet Version: 1.7.0 Command: /Library/Frameworks/R.framework/Resources/bin/R CMD build --keep-empty-dirs --no-resave-data enrichViewNet StartedAt: 2025-05-04 16:41:54 -0400 (Sun, 04 May 2025) EndedAt: 2025-05-04 16:43:04 -0400 (Sun, 04 May 2025) EllapsedTime: 69.5 seconds RetCode: 0 Status: OK PackageFile: enrichViewNet_1.7.0.tar.gz PackageFileSize: 4.379 MiB