Package: enrichViewNet Version: 1.7.0 Command: /Library/Frameworks/R.framework/Resources/bin/R CMD INSTALL enrichViewNet StartedAt: 2025-05-18 15:24:00 -0400 (Sun, 18 May 2025) EndedAt: 2025-05-18 15:24:10 -0400 (Sun, 18 May 2025) EllapsedTime: 9.8 seconds RetCode: 0 Status: OK