Package: enrichViewNet Version: 1.7.0 Command: /Library/Frameworks/R.framework/Resources/bin/R CMD check --install=check:enrichViewNet.install-out.txt --library=/Library/Frameworks/R.framework/Resources/library --no-vignettes --timings enrichViewNet_1.7.0.tar.gz StartedAt: 2025-05-20 19:03:40 -0400 (Tue, 20 May 2025) EndedAt: 2025-05-20 19:04:59 -0400 (Tue, 20 May 2025) EllapsedTime: 78.8 seconds RetCode: 0 Status: OK CheckDir: enrichViewNet.Rcheck Warnings: 0