Package: enrichViewNet Version: 1.7.0 Command: /Library/Frameworks/R.framework/Resources/bin/R CMD build --keep-empty-dirs --no-resave-data enrichViewNet StartedAt: 2025-05-20 16:12:52 -0400 (Tue, 20 May 2025) EndedAt: 2025-05-20 16:13:20 -0400 (Tue, 20 May 2025) EllapsedTime: 27.3 seconds RetCode: 0 Status: OK PackageFile: enrichViewNet_1.7.0.tar.gz PackageFileSize: 4.382 MiB