Package: enrichViewNet Version: 1.7.0 Command: rm -rf enrichViewNet.buildbin-libdir && mkdir enrichViewNet.buildbin-libdir && /Users/biocbuild/BBS/utils/build-universal.sh enrichViewNet_1.7.0.tar.gz /Library/Frameworks/R.framework/Resources/bin/R enrichViewNet.buildbin-libdir StartedAt: 2025-05-20 22:06:56 -0400 (Tue, 20 May 2025) EndedAt: 2025-05-20 22:07:07 -0400 (Tue, 20 May 2025) EllapsedTime: 11.2 seconds RetCode: 0 Status: OK PackageFile: enrichViewNet_1.7.0.tgz PackageFileSize: 3.488 MiB