Package: enhancerHomologSearch Version: 1.15.1 Command: chmod a+r enhancerHomologSearch -R && F:\biocbuild\bbs-3.22-bioc\R\bin\R.exe CMD build --keep-empty-dirs --no-resave-data enhancerHomologSearch StartedAt: 2025-08-14 19:54:32 -0400 (Thu, 14 Aug 2025) EndedAt: 2025-08-14 20:18:06 -0400 (Thu, 14 Aug 2025) EllapsedTime: 1414.7 seconds RetCode: 0 Status: OK PackageFile: enhancerHomologSearch_1.15.1.tar.gz PackageFileSize: 1.043 MiB