Package: eisaR Version: 1.21.1 Command: /home/biocbuild/bbs-3.22-bioc/R/bin/R CMD INSTALL eisaR StartedAt: 2025-10-06 15:24:13 -0400 (Mon, 06 Oct 2025) EndedAt: 2025-10-06 15:24:33 -0400 (Mon, 06 Oct 2025) EllapsedTime: 19.9 seconds RetCode: 0 Status: OK