Package: eisaR Version: 1.21.1 Command: /home/biocbuild/bbs-3.22-bioc/R/bin/R CMD build --keep-empty-dirs --no-resave-data --md5 eisaR StartedAt: 2025-10-06 17:27:40 -0400 (Mon, 06 Oct 2025) EndedAt: 2025-10-06 17:29:06 -0400 (Mon, 06 Oct 2025) EllapsedTime: 86.1 seconds RetCode: 0 Status: OK PackageFile: eisaR_1.21.1.tar.gz PackageFileSize: 1.908 MiB