Package: eiR Version: 1.47.1 Command: rm -rf eiR.buildbin-libdir && mkdir eiR.buildbin-libdir && E:\biocbuild\bbs-3.21-bioc\R\bin\R.exe CMD INSTALL --build --library=eiR.buildbin-libdir eiR_1.47.1.tar.gz StartedAt: 2025-02-17 07:28:15 -0500 (Mon, 17 Feb 2025) EndedAt: 2025-02-17 07:29:01 -0500 (Mon, 17 Feb 2025) EllapsedTime: 46.0 seconds RetCode: 0 Status: OK PackageFile: eiR_1.47.1.zip PackageFileSize: 516.5 KiB